BEGIN:VCALENDAR
VERSION:2.0
PRODID:-//NADI Kg Chenor - ECPv6.15.12.2//NONSGML v1.0//EN
CALSCALE:GREGORIAN
METHOD:PUBLISH
X-WR-CALNAME:NADI Kg Chenor
X-ORIGINAL-URL:https://kgchenor.nadi.my
X-WR-CALDESC:Events for NADI Kg Chenor
REFRESH-INTERVAL;VALUE=DURATION:PT1H
X-Robots-Tag:noindex
X-PUBLISHED-TTL:PT1H
BEGIN:VTIMEZONE
TZID:UTC
BEGIN:STANDARD
TZOFFSETFROM:+0000
TZOFFSETTO:+0000
TZNAME:UTC
DTSTART:20230101T000000
END:STANDARD
END:VTIMEZONE
BEGIN:VEVENT
DTSTART;TZID=UTC:20241130T080000
DTEND;TZID=UTC:20241130T180000
DTSTAMP:20260423T072019
CREATED:20241102T205144Z
LAST-MODIFIED:20241102T205144Z
UID:2917-1732953600-1732989600@kgchenor.nadi.my
SUMMARY:Mini Hari Bersama Komuniti 2024
DESCRIPTION:
URL:https://kgchenor.nadi.my/event/mini-hari-bersama-komuniti-2024/
LOCATION:Pahang
CATEGORIES:DEFAULT
END:VEVENT
END:VCALENDAR