BEGIN:VCALENDAR
VERSION:2.0
PRODID:-//NADI Kg Chenor - ECPv6.15.12.2//NONSGML v1.0//EN
CALSCALE:GREGORIAN
METHOD:PUBLISH
X-WR-CALNAME:NADI Kg Chenor
X-ORIGINAL-URL:https://kgchenor.nadi.my
X-WR-CALDESC:Events for NADI Kg Chenor
REFRESH-INTERVAL;VALUE=DURATION:PT1H
X-Robots-Tag:noindex
X-PUBLISHED-TTL:PT1H
BEGIN:VTIMEZONE
TZID:UTC
BEGIN:STANDARD
TZOFFSETFROM:+0000
TZOFFSETTO:+0000
TZNAME:UTC
DTSTART:20230101T000000
END:STANDARD
END:VTIMEZONE
BEGIN:VTIMEZONE
TZID:UTC
BEGIN:STANDARD
TZOFFSETFROM:+0000
TZOFFSETTO:+0000
TZNAME:UTC
DTSTART:20230101T000000
END:STANDARD
END:VTIMEZONE
BEGIN:VEVENT
DTSTART;TZID=UTC:20241207T083000
DTEND;TZID=UTC:20241207T123000
DTSTAMP:20260423T051930
CREATED:20241220T235854Z
LAST-MODIFIED:20241220T235854Z
UID:2786-1733560200-1733574600@kgchenor.nadi.my
SUMMARY:STeM: Kelas Matematik & Matematik Tambahan
DESCRIPTION:
URL:https://kgchenor.nadi.my/event/stem-kelas-matematik-matematik-tambahan-2/
LOCATION:PUSAT SEBARAN MAKLUMAT NASIONAL (NADI) KAMPUNG CHENOR\, PEJABAT JKKK KAMPUNG CHENOR\, Chenor\, Pahang\, 28100\, Malaysia
END:VEVENT
BEGIN:VEVENT
DTSTART;TZID=UTC:20241207T083000
DTEND;TZID=UTC:20241207T130000
DTSTAMP:20260423T051930
CREATED:20241201T203144Z
LAST-MODIFIED:20241201T203144Z
UID:2945-1733560200-1733576400@kgchenor.nadi.my
SUMMARY:STeM: Bengkel Matematik & Perakaunan
DESCRIPTION:Pelajar Sek Men
URL:https://kgchenor.nadi.my/event/stem-bengkel-matematik-perakaunan/
LOCATION:Pahang
CATEGORIES:DEFAULT
END:VEVENT
END:VCALENDAR