BEGIN:VCALENDAR
VERSION:2.0
PRODID:-//NADI Kg Chenor - ECPv6.15.12.2//NONSGML v1.0//EN
CALSCALE:GREGORIAN
METHOD:PUBLISH
X-WR-CALNAME:NADI Kg Chenor
X-ORIGINAL-URL:https://kgchenor.nadi.my
X-WR-CALDESC:Events for NADI Kg Chenor
REFRESH-INTERVAL;VALUE=DURATION:PT1H
X-Robots-Tag:noindex
X-PUBLISHED-TTL:PT1H
BEGIN:VTIMEZONE
TZID:UTC
BEGIN:STANDARD
TZOFFSETFROM:+0000
TZOFFSETTO:+0000
TZNAME:UTC
DTSTART:20230101T000000
END:STANDARD
END:VTIMEZONE
BEGIN:VEVENT
DTSTART;TZID=UTC:20241208T083000
DTEND;TZID=UTC:20241208T130000
DTSTAMP:20260423T125710
CREATED:20241201T203221Z
LAST-MODIFIED:20241201T203221Z
UID:2946-1733646600-1733662800@kgchenor.nadi.my
SUMMARY:STeM: Bengkel Matematik & Perakaunan
DESCRIPTION:Pelajar Sek Men
URL:https://kgchenor.nadi.my/event/stem-bengkel-matematik-perakaunan-2/
LOCATION:Pahang
CATEGORIES:DEFAULT
END:VEVENT
END:VCALENDAR