BEGIN:VCALENDAR
VERSION:2.0
PRODID:-//NADI Kg Chenor - ECPv6.15.12.2//NONSGML v1.0//EN
CALSCALE:GREGORIAN
METHOD:PUBLISH
X-WR-CALNAME:NADI Kg Chenor
X-ORIGINAL-URL:https://kgchenor.nadi.my
X-WR-CALDESC:Events for NADI Kg Chenor
REFRESH-INTERVAL;VALUE=DURATION:PT1H
X-Robots-Tag:noindex
X-PUBLISHED-TTL:PT1H
BEGIN:VTIMEZONE
TZID:UTC
BEGIN:STANDARD
TZOFFSETFROM:+0000
TZOFFSETTO:+0000
TZNAME:UTC
DTSTART:20230101T000000
END:STANDARD
END:VTIMEZONE
BEGIN:VEVENT
DTSTART;TZID=UTC:20241214T093000
DTEND;TZID=UTC:20241214T103000
DTSTAMP:20260424T112047
CREATED:20241201T223315Z
LAST-MODIFIED:20241201T223315Z
UID:2956-1734168600-1734172200@kgchenor.nadi.my
SUMMARY:MAHIR: Kelas Memasak
DESCRIPTION:Peserta yang berdaftar sahaja\n\nUsahawan NADI KAMPUNG CHENOR
URL:https://kgchenor.nadi.my/event/mahir-kelas-memasak-8/
LOCATION:NADI KAMPUNG CHENOR\, NADI KAMPUNG CHENOR
CATEGORIES:DEFAULT
END:VEVENT
BEGIN:VEVENT
DTSTART;TZID=UTC:20241214T103000
DTEND;TZID=UTC:20241214T120000
DTSTAMP:20260424T112047
CREATED:20241201T222855Z
LAST-MODIFIED:20241201T222855Z
UID:2953-1734172200-1734177600@kgchenor.nadi.my
SUMMARY:WEBINAR: Cyber Security
DESCRIPTION:Pelajar Sek Men
URL:https://kgchenor.nadi.my/event/webinar-cyber-security/
LOCATION:Pahang
CATEGORIES:DEFAULT
END:VEVENT
END:VCALENDAR