BEGIN:VCALENDAR
VERSION:2.0
PRODID:-//NADI Kg Chenor - ECPv6.15.12.2//NONSGML v1.0//EN
CALSCALE:GREGORIAN
METHOD:PUBLISH
X-WR-CALNAME:NADI Kg Chenor
X-ORIGINAL-URL:https://kgchenor.nadi.my
X-WR-CALDESC:Events for NADI Kg Chenor
REFRESH-INTERVAL;VALUE=DURATION:PT1H
X-Robots-Tag:noindex
X-PUBLISHED-TTL:PT1H
BEGIN:VTIMEZONE
TZID:UTC
BEGIN:STANDARD
TZOFFSETFROM:+0000
TZOFFSETTO:+0000
TZNAME:UTC
DTSTART:20230101T000000
END:STANDARD
END:VTIMEZONE
BEGIN:VEVENT
DTSTART;TZID=UTC:20241218T103000
DTEND;TZID=UTC:20241218T123000
DTSTAMP:20260423T072020
CREATED:20241201T202359Z
LAST-MODIFIED:20241201T202359Z
UID:2932-1734517800-1734525000@kgchenor.nadi.my
SUMMARY:GiatMARA Maran: Bengkel eUsahawan & Literasi Komputer
DESCRIPTION:Pelatih GiatMARA Maran
URL:https://kgchenor.nadi.my/event/giatmara-maran-bengkel-eusahawan-literasi-komputer-8/
LOCATION:Pahang
CATEGORIES:DEFAULT
END:VEVENT
BEGIN:VEVENT
DTSTART;TZID=UTC:20241218T143000
DTEND;TZID=UTC:20241218T153000
DTSTAMP:20260423T072020
CREATED:20241201T203536Z
LAST-MODIFIED:20241201T203536Z
UID:2952-1734532200-1734535800@kgchenor.nadi.my
SUMMARY:MAHIR: Kelas Memasak
DESCRIPTION:Peserta yang berdaftar sahaja\n\nUsahawan NADI KAMPUNG CHENOR
URL:https://kgchenor.nadi.my/event/mahir-kelas-memasak-6/
LOCATION:NADI KAMPUNG CHENOR\, NADI KAMPUNG CHENOR
CATEGORIES:DEFAULT
END:VEVENT
END:VCALENDAR