BEGIN:VCALENDAR
VERSION:2.0
PRODID:-//NADI Kg Chenor - ECPv6.15.12.2//NONSGML v1.0//EN
CALSCALE:GREGORIAN
METHOD:PUBLISH
X-WR-CALNAME:NADI Kg Chenor
X-ORIGINAL-URL:https://kgchenor.nadi.my
X-WR-CALDESC:Events for NADI Kg Chenor
REFRESH-INTERVAL;VALUE=DURATION:PT1H
X-Robots-Tag:noindex
X-PUBLISHED-TTL:PT1H
BEGIN:VTIMEZONE
TZID:UTC
BEGIN:STANDARD
TZOFFSETFROM:+0000
TZOFFSETTO:+0000
TZNAME:UTC
DTSTART:20230101T000000
END:STANDARD
END:VTIMEZONE
BEGIN:VEVENT
DTSTART;TZID=UTC:20241219T093000
DTEND;TZID=UTC:20241219T103000
DTSTAMP:20260425T004137
CREATED:20241201T202843Z
LAST-MODIFIED:20241201T202843Z
UID:2941-1734600600-1734604200@kgchenor.nadi.my
SUMMARY:MAHIR: Kelas Fotografi
DESCRIPTION:Peserta yang berdaftar sahaja\n\nUsahawan NADI KAMPUNG CHENOR
URL:https://kgchenor.nadi.my/event/mahir-kelas-fotografi-5/
LOCATION:NADI KAMPUNG CHENOR\, NADI KAMPUNG CHENOR
CATEGORIES:DEFAULT
END:VEVENT
BEGIN:VEVENT
DTSTART;TZID=UTC:20241219T103000
DTEND;TZID=UTC:20241219T123000
DTSTAMP:20260425T004137
CREATED:20241201T202413Z
LAST-MODIFIED:20241201T202413Z
UID:2933-1734604200-1734611400@kgchenor.nadi.my
SUMMARY:GiatMARA Maran: Bengkel eUsahawan & Literasi Komputer
DESCRIPTION:Pelatih GiatMARA Maran
URL:https://kgchenor.nadi.my/event/giatmara-maran-bengkel-eusahawan-literasi-komputer-9/
LOCATION:Pahang
CATEGORIES:DEFAULT
END:VEVENT
BEGIN:VEVENT
DTSTART;TZID=UTC:20241219T143000
DTEND;TZID=UTC:20241219T153000
DTSTAMP:20260425T004137
CREATED:20241201T224504Z
LAST-MODIFIED:20241201T224504Z
UID:2965-1734618600-1734622200@kgchenor.nadi.my
SUMMARY:MAHIR: Kelas Baiki Gajet
DESCRIPTION:Peserta yang berdaftar sahaja\n\nUsahawan NADI KAMPUNG CHENOR
URL:https://kgchenor.nadi.my/event/mahir-kelas-baiki-gajet-3/
LOCATION:NADI KAMPUNG CHENOR\, NADI KAMPUNG CHENOR
CATEGORIES:DEFAULT
END:VEVENT
END:VCALENDAR