BEGIN:VCALENDAR
VERSION:2.0
PRODID:-//NADI Kg Chenor - ECPv6.15.12.2//NONSGML v1.0//EN
CALSCALE:GREGORIAN
METHOD:PUBLISH
X-WR-CALNAME:NADI Kg Chenor
X-ORIGINAL-URL:https://kgchenor.nadi.my
X-WR-CALDESC:Events for NADI Kg Chenor
REFRESH-INTERVAL;VALUE=DURATION:PT1H
X-Robots-Tag:noindex
X-PUBLISHED-TTL:PT1H
BEGIN:VTIMEZONE
TZID:UTC
BEGIN:STANDARD
TZOFFSETFROM:+0000
TZOFFSETTO:+0000
TZNAME:UTC
DTSTART:20230101T000000
END:STANDARD
END:VTIMEZONE
BEGIN:VEVENT
DTSTART;TZID=UTC:20241227T093000
DTEND;TZID=UTC:20241227T103000
DTSTAMP:20260423T072015
CREATED:20241201T223920Z
LAST-MODIFIED:20241201T223920Z
UID:2960-1735291800-1735295400@kgchenor.nadi.my
SUMMARY:MAHIR: Kelas Memasak
DESCRIPTION:Peserta yang berdaftar sahaja\n\nUsahawan NADI KAMPUNG CHENOR
URL:https://kgchenor.nadi.my/event/mahir-kelas-memasak-11/
LOCATION:NADI KAMPUNG CHENOR\, NADI KAMPUNG CHENOR
CATEGORIES:DEFAULT
END:VEVENT
BEGIN:VEVENT
DTSTART;TZID=UTC:20241227T153000
DTEND;TZID=UTC:20241227T163000
DTSTAMP:20260423T072015
CREATED:20241201T203026Z
LAST-MODIFIED:20241201T203026Z
UID:2944-1735313400-1735317000@kgchenor.nadi.my
SUMMARY:MAHIR: Kelas Fotografi
DESCRIPTION:Peserta yang berdaftar sahaja\n\nUsahawan NADI KAMPUNG CHENOR
URL:https://kgchenor.nadi.my/event/mahir-kelas-fotografi-8/
LOCATION:NADI KAMPUNG CHENOR\, NADI KAMPUNG CHENOR
CATEGORIES:DEFAULT
END:VEVENT
END:VCALENDAR