BEGIN:VCALENDAR
VERSION:2.0
PRODID:-//NADI Kg Chenor - ECPv6.15.12.2//NONSGML v1.0//EN
CALSCALE:GREGORIAN
METHOD:PUBLISH
X-ORIGINAL-URL:https://kgchenor.nadi.my
X-WR-CALDESC:Events for NADI Kg Chenor
REFRESH-INTERVAL;VALUE=DURATION:PT1H
X-Robots-Tag:noindex
X-PUBLISHED-TTL:PT1H
BEGIN:VTIMEZONE
TZID:UTC
BEGIN:STANDARD
TZOFFSETFROM:+0000
TZOFFSETTO:+0000
TZNAME:UTC
DTSTART:20240101T000000
END:STANDARD
END:VTIMEZONE
BEGIN:VEVENT
DTSTART;TZID=UTC:20250708T153000
DTEND;TZID=UTC:20250708T163000
DTSTAMP:20260420T020634
CREATED:20250630T224013Z
LAST-MODIFIED:20250708T031429Z
UID:2962-1751988600-1751992200@kgchenor.nadi.my
SUMMARY:OPEN LIVE CLASS MATEMATIK
DESCRIPTION:🎉 OPEN LIVE CLASS MATEMATIK — JOM JOIN SECARA PERCUMA! 🎉 \nNADI Nurture DILEA Digital Learning \n📚 Bersedia untuk skor Matematik dengan lebih yakin? Jom sertai Kelas LIVE Matematik khas untuk pelajar Tingkatan 4 & 5! \n💻 Google Meet\n👨‍🏫 Cikgu Wani \n💥 APA YANG BEST?\n✅ Percuma & Terbuka kepada semua pelajar Tingkatan 4 & 5\n✅ Tiada had penyertaan – bawa geng sekelas pun boleh!\n✅ Topik padat\, mudah faham\, terus boleh guna untuk exam! \n🚀 Join melalui LMS DILEA (Akaun NADI)\n📲 Ada soalan? Hubungi petugas NADI berdekatan anda sekarang! \n📍 Jangan tunggu! Peluang terbaik untuk kuasai MATEMATIK – secara LIVE & PERCUMA!
URL:https://kgchenor.nadi.my/event/open-live-class-matematik/
CATEGORIES:DEFAULT
ATTACH;FMTTYPE=image/jpeg:https://kgchenor.nadi.my/wp-content/uploads/2024/12/WhatsApp-Image-2025-07-07-at-20.46.32.jpeg
END:VEVENT
BEGIN:VEVENT
DTSTART;TZID=UTC:20250713T090000
DTEND;TZID=UTC:20250713T170000
DTSTAMP:20260420T020634
CREATED:20240630T202634Z
LAST-MODIFIED:20250710T011105Z
UID:2937-1752397200-1752426000@kgchenor.nadi.my
SUMMARY:NADI E-Sukan Musim Ketiga (Julai – Disember 2025)
DESCRIPTION:  \n 
URL:https://kgchenor.nadi.my/event/nadi-e-sukan-musim-ketiga-julai-disember-2025/
LOCATION:PUSAT SEBARAN MAKLUMAT NASIONAL (NADI) KAMPUNG CHENOR\, PEJABAT JKKK KAMPUNG CHENOR\, Chenor\, Pahang\, 28100\, Malaysia
CATEGORIES:DEFAULT
ATTACH;FMTTYPE=image/png:https://kgchenor.nadi.my/wp-content/uploads/2024/06/Jadual-Julai-2025.png
END:VEVENT
END:VCALENDAR