BEGIN:VCALENDAR
VERSION:2.0
PRODID:-//NADI Kg Chenor - ECPv6.15.12.2//NONSGML v1.0//EN
CALSCALE:GREGORIAN
METHOD:PUBLISH
X-WR-CALNAME:NADI Kg Chenor
X-ORIGINAL-URL:https://kgchenor.nadi.my
X-WR-CALDESC:Events for NADI Kg Chenor
REFRESH-INTERVAL;VALUE=DURATION:PT1H
X-Robots-Tag:noindex
X-PUBLISHED-TTL:PT1H
BEGIN:VTIMEZONE
TZID:UTC
BEGIN:STANDARD
TZOFFSETFROM:+0000
TZOFFSETTO:+0000
TZNAME:UTC
DTSTART:20230101T000000
END:STANDARD
END:VTIMEZONE
BEGIN:VEVENT
DTSTART;TZID=UTC:20241213T093000
DTEND;TZID=UTC:20241213T103000
DTSTAMP:20260426T011722
CREATED:20241201T223244Z
LAST-MODIFIED:20241201T223244Z
UID:2955-1734082200-1734085800@kgchenor.nadi.my
SUMMARY:MAHIR: Kelas Memasak
DESCRIPTION:Peserta yang berdaftar sahaja\n\nUsahawan NADI KAMPUNG CHENOR
URL:https://kgchenor.nadi.my/event/mahir-kelas-memasak-7/
LOCATION:NADI KAMPUNG CHENOR\, NADI KAMPUNG CHENOR
CATEGORIES:DEFAULT
END:VEVENT
BEGIN:VEVENT
DTSTART;TZID=UTC:20241213T153000
DTEND;TZID=UTC:20241213T163000
DTSTAMP:20260426T011722
CREATED:20241201T201610Z
LAST-MODIFIED:20241201T201610Z
UID:2923-1734103800-1734107400@kgchenor.nadi.my
SUMMARY:DiLea: Kelas Bahasa Inggeris Tingkatan 4
DESCRIPTION:Pelajar yang terpilih sahaja.\n\nPelajar Sek Men
URL:https://kgchenor.nadi.my/event/dilea-kelas-bahasa-inggeris-tingkatan-4/
LOCATION:NADI KAMPUNG CHENOR\, NADI KAMPUNG CHENOR
CATEGORIES:DEFAULT
END:VEVENT
BEGIN:VEVENT
DTSTART;TZID=UTC:20241213T160000
DTEND;TZID=UTC:20241213T170000
DTSTAMP:20260426T011722
CREATED:20241201T202742Z
LAST-MODIFIED:20241201T202742Z
UID:2939-1734105600-1734109200@kgchenor.nadi.my
SUMMARY:MAHIR: Kelas Fotografi
DESCRIPTION:Peserta yang berdaftar sahaja\n\nUsahawan NADI KAMPUNG CHENOR
URL:https://kgchenor.nadi.my/event/mahir-kelas-fotografi-3/
LOCATION:NADI KAMPUNG CHENOR\, NADI KAMPUNG CHENOR
CATEGORIES:DEFAULT
END:VEVENT
END:VCALENDAR